BEGIN:VCALENDAR
VERSION:2.0
PRODID:-//wp-events-plugin.com//7.2.3.1//EN
TZID:Europe/Berlin
X-WR-TIMEZONE:Europe/Berlin
BEGIN:VEVENT
UID:278@traumazentrum-kassel.de
DTSTART:20251014T153000Z
DTEND:20251014T163000Z
DTSTAMP:20250917T080424Z
URL:https://traumazentrum-kassel.de/veranstaltungen/schnupperworkshop-feld
 enkrais/
SUMMARY:Schnupperworkshop Feldenkrais
DESCRIPTION:Entdecke sanfte Bewegung für mehr Wohlbefinden.\nDu suchst ein
 en Weg\, achtsam mit Dir umzugehen und mehr Leichtigkeit im Alltag zu find
 en? FELDENKRAIS® bietet einen geschützten Raum\, um durch sanfte Bewegun
 gen Deinen Körper neu zu entdecken. Besonders Menschen mit traumatischen 
 Erfahrungen können hier behutsam wieder Vertrauen in die eigene Bewegungs
 - und Handlungsfähigkeit entwickeln.\nMitzubringen sind warme und gemütl
 iche Kleidung\, dicke Socken\, großes Badehandtuch.\n\nDas Angebot wird a
 ngeleitet von Velia Hahnemann (Feldenkrais® Lehrerin\, ausgeb. Tänzerin\
 , Pilates Trainerin)\nDauer: 1 Std.\, Kosten: 8 €\nDie Gebühr muss vor 
 Kursbeginn überwiesen werden.\nTermin: 14.10.\, 17:30 - 18:30 Uhr\n\nAnme
 ldung erforderlich mit dem Anmeldeformular Anmeldung_Feldenkrais_S6-2025_a
 usfuellbar (1) unter gruppen@traumazentrum-kassel.de\n\nDer Workshop richt
 et sich ausschließlich an Menschen mit traumatischen Erfahrungen\n\nTeiln
 ehmer*innenzahl: Mind. 4\nAnmeldeschluss: 06.10.
ATTACH;FMTTYPE=image/jpeg:https://traumazentrum-kassel.de/wp-content/uploa
 ds/2024/11/F.png
CATEGORIES:Betroffene
LOCATION:Zentrum für Psychotraumatologie e.V.\, Lange Str. 85\, Kassel\, H
 essen\, 34131 \, Deutschland
X-APPLE-STRUCTURED-LOCATION;VALUE=URI;X-ADDRESS=Lange Str. 85\, Kassel\, He
 ssen\, 34131 \, Deutschland;X-APPLE-RADIUS=100;X-TITLE=Zentrum für Psycho
 traumatologie e.V.:geo:0,0
END:VEVENT
END:VCALENDAR