BEGIN:VCALENDAR
VERSION:2.0
PRODID:-//wp-events-plugin.com//7.2.3.1//EN
TZID:Europe/Berlin
X-WR-TIMEZONE:Europe/Berlin
BEGIN:VEVENT
UID:304@traumazentrum-kassel.de
DTSTART:20250928T080000Z
DTEND:20250928T110000Z
DTSTAMP:20250904T113802Z
URL:https://traumazentrum-kassel.de/veranstaltungen/feldenkrais-tanz/
SUMMARY:Feldenkrais & Tanz
DESCRIPTION:In diesem Workshop verbinden wir die sanften\, achtsamen Bewegu
 ngsprinzipien der Feldenkrais-Methode mit den freien\, spontanen Ausdrucks
 möglichkeiten des Tanzes.\nWir fangen ganz sanft und einfach an\, auf der
  Matte liegend\, mit Zeit und Ruhe\, um bei sich selber anzukommen. Mit ei
 ner Bewegungslektion aus der Feldenkrais Methode kommen wir behutsam in Be
 wegung\, entdecken unsere eigene Beweglichkeit und den Genuss an der Beweg
 ung.\nIm weiteren Verlauf des Workshops kommen Elemente des freien Tanzes 
 hinzu. Dabei geht es nicht um Technik oder Perfektion\, sondern um das Erl
 eben des Körpers und die Entfaltung der eigenen Ausdruckskraft. Musik unt
 erstützt dabei ein Loslassen in die Bewegung hinein\, ein Finden des eige
 nen Grooves und die Freude am Tanzen.\nDu brauchst keine Vorerfahrung im T
 anzen oder in der Feldenkrais Methode mitzubringen. Denk bitte an bequeme 
 Kleidung.\n\nWer nicht so gut Liegen oder Stehen/Gehen kann\, ist trotzdem
  herzlich eingeladen teilzunehmen. Die Workshopleiterin wird innerhalb des
  Kurses verschiedene Alternativen anbieten und auf die Möglichkeiten der 
 Teilnehmenden eingehen.\n\nDas Angebot wird angeleitet von Velia Hahnemann
  (Feldenkrais® Lehrerin\, ausgeb. Tänzerin\, Pilates Trainerin)\nDauer: 
 3 Std.\, Kosten: 18 €\nDie Gebühr muss vor Kursbeginn überwiesen werde
 n.\nTermin: 28.09.\, 10:00 - 13:00 Uhr\n\nAnmeldung erforderlich mit dem A
 nmeldeformular Anmeldung_Feldenkrais_und_Tanz_ausfuellbar unter beratung@
 traumazentrum-kassel.de\n\nDer Workshop richtet sich ausschließlich an Me
 nschen mit traumatischen Erfahrungen\n\nTeilnehmer*innenzahl: Mind. 4\nAnm
 eldeschluss: 19.09.
ATTACH;FMTTYPE=image/jpeg:https://traumazentrum-kassel.de/wp-content/uploa
 ds/2025/07/Feldenkrais-Tanz.png
CATEGORIES:Betroffene
LOCATION:Zentrum für Psychotraumatologie e.V.\, Lange Str. 85\, Kassel\, H
 essen\, 34131 \, Deutschland
X-APPLE-STRUCTURED-LOCATION;VALUE=URI;X-ADDRESS=Lange Str. 85\, Kassel\, He
 ssen\, 34131 \, Deutschland;X-APPLE-RADIUS=100;X-TITLE=Zentrum für Psycho
 traumatologie e.V.:geo:0,0
END:VEVENT
END:VCALENDAR